BEGIN:VCALENDAR
VERSION:2.0
PRODID:Charles Econ Dev Calendar Creator
METHOD:PUBLISH
BEGIN:VEVENT
DTSTAMP:20210608T104231
DTSTART:20210608T130000
DTEND:20210608T235900
SUMMARY:County Commissioners Meeting
DESCRIPTION:<ul>    <li>To view the Commissioners Meeting Agenda for actual start time, visit&nbsp;<a href="https://go.boarddocs.com/md/chrlsco/Board.nsf/Public" target="_blank">https://go.boarddocs.com/md/chrlsco/Board.nsf/Public</a></li></ul><ul>    <li>To learn more about the Board of Commissioners,&nbsp; visit&nbsp;<a href="https://www.charlescountymd.gov/?navid=324">Charles County Commissioners</a></li></ul><ul>    <li>Clerk to the court:<br>    Carol DeSoto<br>    Contact Phone: 301-645-0691<br>    Contact Email:&nbsp;<a href="http:" target="_blank">DeSotoC@CharlesCountyMD.gov</a></li></ul>
X-ALT-DESC;FMTTYPE=text/html:<ul>    <li>To view the Commissioners Meeting Agenda for actual start time, visit&nbsp;<a href="https://go.boarddocs.com/md/chrlsco/Board.nsf/Public" target="_blank">https://go.boarddocs.com/md/chrlsco/Board.nsf/Public</a></li></ul><ul>    <li>To learn more about the Board of Commissioners,&nbsp; visit&nbsp;<a href="https://www.charlescountymd.gov/?navid=324">Charles County Commissioners</a></li></ul><ul>    <li>Clerk to the court:<br>    Carol DeSoto<br>    Contact Phone: 301-645-0691<br>    Contact Email:&nbsp;<a href="http:" target="_blank">DeSotoC@CharlesCountyMD.gov</a></li></ul>
LOCATION:
CLASS:PUBLIC
END:VEVENT
END:VCALENDAR
